BEGIN:VCALENDAR
VERSION:2.0
PRODID:-//River Journal Online - News for Tarrytown, Sleepy Hollow, Irvington, Ossining, Briarcliff Manor, Croton-on-Hudson, Cortlandt and Peekskill - ECPv6.15.20//NONSGML v1.0//EN
CALSCALE:GREGORIAN
METHOD:PUBLISH
X-WR-CALNAME:River Journal Online - News for Tarrytown, Sleepy Hollow, Irvington, Ossining, Briarcliff Manor, Croton-on-Hudson, Cortlandt and Peekskill
X-ORIGINAL-URL:https://riverjournalonline.com
X-WR-CALDESC:Events for River Journal Online - News for Tarrytown, Sleepy Hollow, Irvington, Ossining, Briarcliff Manor, Croton-on-Hudson, Cortlandt and Peekskill
REFRESH-INTERVAL;VALUE=DURATION:PT1H
X-Robots-Tag:noindex
X-PUBLISHED-TTL:PT1H
BEGIN:VTIMEZONE
TZID:America/New_York
BEGIN:DAYLIGHT
TZOFFSETFROM:-0500
TZOFFSETTO:-0400
TZNAME:EDT
DTSTART:20250309T070000
END:DAYLIGHT
BEGIN:STANDARD
TZOFFSETFROM:-0400
TZOFFSETTO:-0500
TZNAME:EST
DTSTART:20251102T060000
END:STANDARD
BEGIN:DAYLIGHT
TZOFFSETFROM:-0500
TZOFFSETTO:-0400
TZNAME:EDT
DTSTART:20260308T070000
END:DAYLIGHT
BEGIN:STANDARD
TZOFFSETFROM:-0400
TZOFFSETTO:-0500
TZNAME:EST
DTSTART:20261101T060000
END:STANDARD
BEGIN:DAYLIGHT
TZOFFSETFROM:-0500
TZOFFSETTO:-0400
TZNAME:EDT
DTSTART:20270314T070000
END:DAYLIGHT
BEGIN:STANDARD
TZOFFSETFROM:-0400
TZOFFSETTO:-0500
TZNAME:EST
DTSTART:20271107T060000
END:STANDARD
END:VTIMEZONE
BEGIN:VEVENT
DTSTART;TZID=America/New_York:20260425T120000
DTEND;TZID=America/New_York:20260425T140000
DTSTAMP:20260420T050623
CREATED:20260413T132908Z
LAST-MODIFIED:20260413T132908Z
UID:10062315-1777118400-1777125600@riverjournalonline.com
SUMMARY:Drag Bingo Fundraiser
DESCRIPTION:Join us for a fabulous afternoon of drag\, laughs\, and bingo featuring the hilarious Amber Guesa! Enjoy lively entertainment\, exciting games\, and fun prizes\, all while supporting Yonkers Pride’s annual festival and scholarship fund. \nBonus: The first 20 ticket purchasers will receive a drink voucher. \nPlease Note: Tickets reserve a seat\, not a table. Seating is first come\, first served and community-style. If attending with a group\, please arrive together\, as group seating is not guaranteed.
URL:https://riverjournalonline.com/event/drag-bingo-fundraiser/
LOCATION:Yonkers Brewing Co.\, 92 Main Street\, Yonkers\, NY
ATTACH;FMTTYPE=image/jpeg:https://riverjournalonline.com/wp-content/uploads/2026/04/Image-4-12-26-at-11.16-AM-e1776086938541.jpeg
END:VEVENT
END:VCALENDAR