BEGIN:VCALENDAR
VERSION:2.0
PRODID:-//River Journal Online - News for Tarrytown, Sleepy Hollow, Irvington, Ossining, Briarcliff Manor, Croton-on-Hudson, Cortlandt and Peekskill - ECPv6.15.20//NONSGML v1.0//EN
CALSCALE:GREGORIAN
METHOD:PUBLISH
X-WR-CALNAME:River Journal Online - News for Tarrytown, Sleepy Hollow, Irvington, Ossining, Briarcliff Manor, Croton-on-Hudson, Cortlandt and Peekskill
X-ORIGINAL-URL:https://riverjournalonline.com
X-WR-CALDESC:Events for River Journal Online - News for Tarrytown, Sleepy Hollow, Irvington, Ossining, Briarcliff Manor, Croton-on-Hudson, Cortlandt and Peekskill
REFRESH-INTERVAL;VALUE=DURATION:PT1H
X-Robots-Tag:noindex
X-PUBLISHED-TTL:PT1H
BEGIN:VTIMEZONE
TZID:America/New_York
BEGIN:DAYLIGHT
TZOFFSETFROM:-0500
TZOFFSETTO:-0400
TZNAME:EDT
DTSTART:20250309T070000
END:DAYLIGHT
BEGIN:STANDARD
TZOFFSETFROM:-0400
TZOFFSETTO:-0500
TZNAME:EST
DTSTART:20251102T060000
END:STANDARD
BEGIN:DAYLIGHT
TZOFFSETFROM:-0500
TZOFFSETTO:-0400
TZNAME:EDT
DTSTART:20260308T070000
END:DAYLIGHT
BEGIN:STANDARD
TZOFFSETFROM:-0400
TZOFFSETTO:-0500
TZNAME:EST
DTSTART:20261101T060000
END:STANDARD
BEGIN:DAYLIGHT
TZOFFSETFROM:-0500
TZOFFSETTO:-0400
TZNAME:EDT
DTSTART:20270314T070000
END:DAYLIGHT
BEGIN:STANDARD
TZOFFSETFROM:-0400
TZOFFSETTO:-0500
TZNAME:EST
DTSTART:20271107T060000
END:STANDARD
END:VTIMEZONE
BEGIN:VEVENT
DTSTART;TZID=America/New_York:20260427T190000
DTEND;TZID=America/New_York:20260427T200000
DTSTAMP:20260421T235429
CREATED:20260416T195415Z
LAST-MODIFIED:20260416T195415Z
UID:10062695-1777316400-1777320000@riverjournalonline.com
SUMMARY:The Met's Forgotten Collection: A History of Artists\, Plaster Casts & The Metropolitan Museum of Art (Zoom)
DESCRIPTION:When the Metropolitan Museum of Art first opened its doors in the last decades of the nineteenth century\, visitors encountered a very different type of collection from what is on view now. Plaster casts\, highly precise copies of sculptural art and architecture\, filled its galleries and central halls\, offering viewers a curated narrative of the important highlights of art and architectural history\, focused mainly and narrowly on Ancient Greece\, Rome\, the Renaissance\, and the great architecture of Europe. The MET’s collection comprised thousands of objects; virtually none remain on view at the museum today. \nWhat happened to these works of art? Why fill a gallery with copies in the first place? What was the purpose of this replicative art form? Join Mollie Wohlforth\, Senior Gallery Manager at the Institute of Classical Architecture & Art\, for this talk as she discusses the life of these objects and their lasting effects in art history. \nHosted on Zoom. Free and open to all. Register at warnerlibrary.org
URL:https://riverjournalonline.com/event/the-mets-forgotten-collection-a-history-of-artists-plaster-casts-the-metropolitan-museum-of-art-zoom/
LOCATION:Warner Library\, 121 North Broadway\, Tarrytown\, NY\, 10591\, United States
CATEGORIES:Art,Culture,Discussion,Educational
ATTACH;FMTTYPE=image/jpeg:https://riverjournalonline.com/wp-content/uploads/2026/04/Forgotten-Collection-Flyer-e1776369230238.jpg
ORGANIZER;CN="Warner Library":MAILTO:warnerlibrary@wlsmail.org
END:VEVENT
END:VCALENDAR