BEGIN:VCALENDAR
VERSION:2.0
PRODID:-//River Journal Online - News for Tarrytown, Sleepy Hollow, Irvington, Ossining, Briarcliff Manor, Croton-on-Hudson, Cortlandt and Peekskill - ECPv6.15.20//NONSGML v1.0//EN
CALSCALE:GREGORIAN
METHOD:PUBLISH
X-WR-CALNAME:River Journal Online - News for Tarrytown, Sleepy Hollow, Irvington, Ossining, Briarcliff Manor, Croton-on-Hudson, Cortlandt and Peekskill
X-ORIGINAL-URL:https://riverjournalonline.com
X-WR-CALDESC:Events for River Journal Online - News for Tarrytown, Sleepy Hollow, Irvington, Ossining, Briarcliff Manor, Croton-on-Hudson, Cortlandt and Peekskill
REFRESH-INTERVAL;VALUE=DURATION:PT1H
X-Robots-Tag:noindex
X-PUBLISHED-TTL:PT1H
BEGIN:VTIMEZONE
TZID:America/New_York
BEGIN:DAYLIGHT
TZOFFSETFROM:-0500
TZOFFSETTO:-0400
TZNAME:EDT
DTSTART:20250309T070000
END:DAYLIGHT
BEGIN:STANDARD
TZOFFSETFROM:-0400
TZOFFSETTO:-0500
TZNAME:EST
DTSTART:20251102T060000
END:STANDARD
BEGIN:DAYLIGHT
TZOFFSETFROM:-0500
TZOFFSETTO:-0400
TZNAME:EDT
DTSTART:20260308T070000
END:DAYLIGHT
BEGIN:STANDARD
TZOFFSETFROM:-0400
TZOFFSETTO:-0500
TZNAME:EST
DTSTART:20261101T060000
END:STANDARD
BEGIN:DAYLIGHT
TZOFFSETFROM:-0500
TZOFFSETTO:-0400
TZNAME:EDT
DTSTART:20270314T070000
END:DAYLIGHT
BEGIN:STANDARD
TZOFFSETFROM:-0400
TZOFFSETTO:-0500
TZNAME:EST
DTSTART:20271107T060000
END:STANDARD
END:VTIMEZONE
BEGIN:VEVENT
DTSTART;TZID=America/New_York:20260529T190000
DTEND;TZID=America/New_York:20260529T210000
DTSTAMP:20260421T230447
CREATED:20260421T191951Z
LAST-MODIFIED:20260421T191951Z
UID:10062721-1780081200-1780088400@riverjournalonline.com
SUMMARY:The People's Mic
DESCRIPTION:Come to the mic exactly as you are. \nThe People’s Mic is more than an open mic; it’s a community gathering rooted in care\, creativity\, and connection\, hosted by Westchester Poet Laureate Phylisha Villanueva. Join us for an evening where poets\, storytellers\, and musicians share space and truth. Whether you have a poem in your notes app\, a song in your chest\, or want to listen and be nourished by community\, this space is for you. No experience required. No perfection expected\, just presence. Centered on respect\, expression\, and collective care. Come to perform or witness from 7 p.m. to 9 p.m. once a month. \nDetails: Doors open at 6:30 pm for event starting at 7:00 pm. Register online through this ticket link to secure your performer or audience spot. We will admit folks at the door until we reach capacity\, but online registration ensures your admission.
URL:https://riverjournalonline.com/event/the-peoples-mic-2/2026-05-29/
CATEGORIES:Art,Food,Music,Night Out
ATTACH;FMTTYPE=image/png:https://riverjournalonline.com/wp-content/uploads/2026/04/The-Peoples-Mic-1-e1776799117866.png
ORGANIZER;CN="Hudson Valley Writers Center":MAILTO:admin@writerscenter.org
END:VEVENT
BEGIN:VEVENT
DTSTART;TZID=America/New_York:20260626T190000
DTEND;TZID=America/New_York:20260626T210000
DTSTAMP:20260421T230447
CREATED:20260421T191951Z
LAST-MODIFIED:20260421T191951Z
UID:10062722-1782500400-1782507600@riverjournalonline.com
SUMMARY:The People's Mic
DESCRIPTION:Come to the mic exactly as you are. \nThe People’s Mic is more than an open mic; it’s a community gathering rooted in care\, creativity\, and connection\, hosted by Westchester Poet Laureate Phylisha Villanueva. Join us for an evening where poets\, storytellers\, and musicians share space and truth. Whether you have a poem in your notes app\, a song in your chest\, or want to listen and be nourished by community\, this space is for you. No experience required. No perfection expected\, just presence. Centered on respect\, expression\, and collective care. Come to perform or witness from 7 p.m. to 9 p.m. once a month. \nDetails: Doors open at 6:30 pm for event starting at 7:00 pm. Register online through this ticket link to secure your performer or audience spot. We will admit folks at the door until we reach capacity\, but online registration ensures your admission.
URL:https://riverjournalonline.com/event/the-peoples-mic-2/2026-06-26/
CATEGORIES:Art,Food,Music,Night Out
ATTACH;FMTTYPE=image/png:https://riverjournalonline.com/wp-content/uploads/2026/04/The-Peoples-Mic-1-e1776799117866.png
ORGANIZER;CN="Hudson Valley Writers Center":MAILTO:admin@writerscenter.org
END:VEVENT
END:VCALENDAR