BEGIN:VCALENDAR
VERSION:2.0
PRODID:-//River Journal Online - News for Tarrytown, Sleepy Hollow, Irvington, Ossining, Briarcliff Manor, Croton-on-Hudson, Cortlandt and Peekskill - ECPv6.15.20//NONSGML v1.0//EN
CALSCALE:GREGORIAN
METHOD:PUBLISH
X-WR-CALNAME:River Journal Online - News for Tarrytown, Sleepy Hollow, Irvington, Ossining, Briarcliff Manor, Croton-on-Hudson, Cortlandt and Peekskill
X-ORIGINAL-URL:https://riverjournalonline.com
X-WR-CALDESC:Events for River Journal Online - News for Tarrytown, Sleepy Hollow, Irvington, Ossining, Briarcliff Manor, Croton-on-Hudson, Cortlandt and Peekskill
REFRESH-INTERVAL;VALUE=DURATION:PT1H
X-Robots-Tag:noindex
X-PUBLISHED-TTL:PT1H
BEGIN:VTIMEZONE
TZID:America/New_York
BEGIN:DAYLIGHT
TZOFFSETFROM:-0500
TZOFFSETTO:-0400
TZNAME:EDT
DTSTART:20250309T070000
END:DAYLIGHT
BEGIN:STANDARD
TZOFFSETFROM:-0400
TZOFFSETTO:-0500
TZNAME:EST
DTSTART:20251102T060000
END:STANDARD
BEGIN:DAYLIGHT
TZOFFSETFROM:-0500
TZOFFSETTO:-0400
TZNAME:EDT
DTSTART:20260308T070000
END:DAYLIGHT
BEGIN:STANDARD
TZOFFSETFROM:-0400
TZOFFSETTO:-0500
TZNAME:EST
DTSTART:20261101T060000
END:STANDARD
BEGIN:DAYLIGHT
TZOFFSETFROM:-0500
TZOFFSETTO:-0400
TZNAME:EDT
DTSTART:20270314T070000
END:DAYLIGHT
BEGIN:STANDARD
TZOFFSETFROM:-0400
TZOFFSETTO:-0500
TZNAME:EST
DTSTART:20271107T060000
END:STANDARD
END:VTIMEZONE
BEGIN:VEVENT
DTSTART;TZID=America/New_York:20260425T093000
DTEND;TZID=America/New_York:20260425T113000
DTSTAMP:20260421T170326
CREATED:20260324T142959Z
LAST-MODIFIED:20260324T142959Z
UID:10062162-1777109400-1777116600@riverjournalonline.com
SUMMARY:Maryknoll Fathers and Brothers' Women's Day of Prayer
DESCRIPTION:Seasons of Prayer\, the theme for Maryknoll Fathers and Brothers’ sixth annual Women’s Day of Prayer\, will explore how our faith and spirituality evolve and mature through the seasons of our lives and how our prayers reflect that growth. \nWe welcome you to join us on Saturday\, April 25 at 9:30 am (ET) for a program of prayer and conversation. Our day will begin with a brief gathering service\, with a reflection from Father Raymond Finch\, M.M. Guests will then join together for refreshments and our feature presentation. \nGuests are welcome to share photos and stories reflecting the transformative power of prayer throughout different seasons of their life. Submissions may be sent to lbottos@maryknoll.org. Registration requested: www.MaryknollSociety.org/Womens-Event
URL:https://riverjournalonline.com/event/maryknoll-fathers-and-brothers-womens-day-of-prayer/
LOCATION:Maryknoll Society Center – 55 Ryder Road\, Maryknoll\, NY 10545\, 55 Ryder Road\, Maryknoll\, 10545
CATEGORIES:Discussion,Religious
ATTACH;FMTTYPE=image/jpeg:https://riverjournalonline.com/wp-content/uploads/2026/03/WDOP-2026-e1774362590918.jpg
ORGANIZER;CN="Maryknoll Fathers and Brothers":MAILTO:lbottos@maryknoll.org
END:VEVENT
END:VCALENDAR