BEGIN:VCALENDAR
VERSION:2.0
PRODID:-//River Journal Online - News for Tarrytown, Sleepy Hollow, Irvington, Ossining, Briarcliff Manor, Croton-on-Hudson, Cortlandt and Peekskill - ECPv6.15.20//NONSGML v1.0//EN
CALSCALE:GREGORIAN
METHOD:PUBLISH
X-ORIGINAL-URL:https://riverjournalonline.com
X-WR-CALDESC:Events for River Journal Online - News for Tarrytown, Sleepy Hollow, Irvington, Ossining, Briarcliff Manor, Croton-on-Hudson, Cortlandt and Peekskill
REFRESH-INTERVAL;VALUE=DURATION:PT1H
X-Robots-Tag:noindex
X-PUBLISHED-TTL:PT1H
BEGIN:VTIMEZONE
TZID:America/New_York
BEGIN:DAYLIGHT
TZOFFSETFROM:-0500
TZOFFSETTO:-0400
TZNAME:EDT
DTSTART:20250309T070000
END:DAYLIGHT
BEGIN:STANDARD
TZOFFSETFROM:-0400
TZOFFSETTO:-0500
TZNAME:EST
DTSTART:20251102T060000
END:STANDARD
BEGIN:DAYLIGHT
TZOFFSETFROM:-0500
TZOFFSETTO:-0400
TZNAME:EDT
DTSTART:20260308T070000
END:DAYLIGHT
BEGIN:STANDARD
TZOFFSETFROM:-0400
TZOFFSETTO:-0500
TZNAME:EST
DTSTART:20261101T060000
END:STANDARD
BEGIN:DAYLIGHT
TZOFFSETFROM:-0500
TZOFFSETTO:-0400
TZNAME:EDT
DTSTART:20270314T070000
END:DAYLIGHT
BEGIN:STANDARD
TZOFFSETFROM:-0400
TZOFFSETTO:-0500
TZNAME:EST
DTSTART:20271107T060000
END:STANDARD
END:VTIMEZONE
BEGIN:VEVENT
DTSTART;TZID=America/New_York:20260502T110000
DTEND;TZID=America/New_York:20260502T160000
DTSTAMP:20260419T112856
CREATED:20260407T201316Z
LAST-MODIFIED:20260407T201316Z
UID:10062282-1777719600-1777737600@riverjournalonline.com
SUMMARY:4th Annual WoodFest at Bethany Arts Community
DESCRIPTION:4th Annual WoodFest\nSaturday May 2\, 11AM-4PM (rain date May 3)\n$15 per car (advance tickets available. walk-ins welcome) \nDiscover the magic of Bethany Arts Community’s fourth annual WoodFest! Come experience the joy and wonder of the natural world\, brought to life through the skillful hands of artisans. WoodFest has something for everyone\, from handcrafted creations\, to wood sculpture demonstrations\, to wood-crafting activities for all. Enjoy a day of arbor and wood celebration with live music\, arts activities\, woodcut printmaking\, food\, and games for the whole family.  \nCRAFTS\nDEMOS\nVENDORS\nFOOD\n& MORE \nWoodfest 2025 sponsored by Renewal by Andersen of Westchester/Fairfield.
URL:https://riverjournalonline.com/event/4th-annual-woodfest-at-bethany-arts-community/
LOCATION:Bethany Arts Community\, 40 Somerstown Road\, Ossining NY\, NY\, 10562\, United States
CATEGORIES:Art,Crafts and Gift Market,Culture,Food,Music
ATTACH;FMTTYPE=image/png:https://riverjournalonline.com/wp-content/uploads/2026/04/WoodFest-2026-Graphic-e1775592606159.png
ORGANIZER;CN="Bethany Arts Community":MAILTO:info@bethanyarts.org
END:VEVENT
END:VCALENDAR