BEGIN:VCALENDAR
VERSION:2.0
PRODID:-//River Journal Online - News for Tarrytown, Sleepy Hollow, Irvington, Ossining, Briarcliff Manor, Croton-on-Hudson, Cortlandt and Peekskill - ECPv6.15.20//NONSGML v1.0//EN
CALSCALE:GREGORIAN
METHOD:PUBLISH
X-ORIGINAL-URL:https://riverjournalonline.com
X-WR-CALDESC:Events for River Journal Online - News for Tarrytown, Sleepy Hollow, Irvington, Ossining, Briarcliff Manor, Croton-on-Hudson, Cortlandt and Peekskill
REFRESH-INTERVAL;VALUE=DURATION:PT1H
X-Robots-Tag:noindex
X-PUBLISHED-TTL:PT1H
BEGIN:VTIMEZONE
TZID:America/New_York
BEGIN:DAYLIGHT
TZOFFSETFROM:-0500
TZOFFSETTO:-0400
TZNAME:EDT
DTSTART:20250309T070000
END:DAYLIGHT
BEGIN:STANDARD
TZOFFSETFROM:-0400
TZOFFSETTO:-0500
TZNAME:EST
DTSTART:20251102T060000
END:STANDARD
BEGIN:DAYLIGHT
TZOFFSETFROM:-0500
TZOFFSETTO:-0400
TZNAME:EDT
DTSTART:20260308T070000
END:DAYLIGHT
BEGIN:STANDARD
TZOFFSETFROM:-0400
TZOFFSETTO:-0500
TZNAME:EST
DTSTART:20261101T060000
END:STANDARD
BEGIN:DAYLIGHT
TZOFFSETFROM:-0500
TZOFFSETTO:-0400
TZNAME:EDT
DTSTART:20270314T070000
END:DAYLIGHT
BEGIN:STANDARD
TZOFFSETFROM:-0400
TZOFFSETTO:-0500
TZNAME:EST
DTSTART:20271107T060000
END:STANDARD
END:VTIMEZONE
BEGIN:VEVENT
DTSTART;TZID=America/New_York:20260425T190000
DTEND;TZID=America/New_York:20260425T210000
DTSTAMP:20260425T115239
CREATED:20260405T203225Z
LAST-MODIFIED:20260405T203225Z
UID:10062192-1777143600-1777150800@riverjournalonline.com
SUMMARY:Rev Billy and the Stop Shopping Choir
DESCRIPTION:Part gospel-infused performance\, part political spectacle\, part communal call to conscience\, Billie Talen leads the choir in song\, humor\, theatricality\, and moral clarity to challenge consumerism\, ecological destruction\, and the cultural forces that keep people disconnected from what matters most. The work is bold\, funny\, and deeply participatory\, creating the kind of charged collective experience that helps people move from passive concern to feeling\, connection\, and action
URL:https://riverjournalonline.com/event/rev-billy-and-the-stop-shopping-choir/
LOCATION:Irvington Theater\, 85 Main Street\, Irvington\, 10533
CATEGORIES:Environment,Music
ATTACH;FMTTYPE=image/png:https://riverjournalonline.com/wp-content/uploads/2026/04/billy-stop-shopping-e1775421120487.png
ORGANIZER;CN="Chaos and Catharsis":MAILTO:charlottebinns@gmail.com
END:VEVENT
END:VCALENDAR