BEGIN:VCALENDAR
VERSION:2.0
PRODID:-//River Journal Online - News for Tarrytown, Sleepy Hollow, Irvington, Ossining, Briarcliff Manor, Croton-on-Hudson, Cortlandt and Peekskill - ECPv6.15.20//NONSGML v1.0//EN
CALSCALE:GREGORIAN
METHOD:PUBLISH
X-WR-CALNAME:River Journal Online - News for Tarrytown, Sleepy Hollow, Irvington, Ossining, Briarcliff Manor, Croton-on-Hudson, Cortlandt and Peekskill
X-ORIGINAL-URL:https://riverjournalonline.com
X-WR-CALDESC:Events for River Journal Online - News for Tarrytown, Sleepy Hollow, Irvington, Ossining, Briarcliff Manor, Croton-on-Hudson, Cortlandt and Peekskill
REFRESH-INTERVAL;VALUE=DURATION:PT1H
X-Robots-Tag:noindex
X-PUBLISHED-TTL:PT1H
BEGIN:VTIMEZONE
TZID:America/New_York
BEGIN:DAYLIGHT
TZOFFSETFROM:-0500
TZOFFSETTO:-0400
TZNAME:EDT
DTSTART:20250309T070000
END:DAYLIGHT
BEGIN:STANDARD
TZOFFSETFROM:-0400
TZOFFSETTO:-0500
TZNAME:EST
DTSTART:20251102T060000
END:STANDARD
BEGIN:DAYLIGHT
TZOFFSETFROM:-0500
TZOFFSETTO:-0400
TZNAME:EDT
DTSTART:20260308T070000
END:DAYLIGHT
BEGIN:STANDARD
TZOFFSETFROM:-0400
TZOFFSETTO:-0500
TZNAME:EST
DTSTART:20261101T060000
END:STANDARD
BEGIN:DAYLIGHT
TZOFFSETFROM:-0500
TZOFFSETTO:-0400
TZNAME:EDT
DTSTART:20270314T070000
END:DAYLIGHT
BEGIN:STANDARD
TZOFFSETFROM:-0400
TZOFFSETTO:-0500
TZNAME:EST
DTSTART:20271107T060000
END:STANDARD
END:VTIMEZONE
BEGIN:VEVENT
DTSTART;TZID=America/New_York:20260528T173000
DTEND;TZID=America/New_York:20260528T190000
DTSTAMP:20260423T222810
CREATED:20260407T201310Z
LAST-MODIFIED:20260407T201310Z
UID:10062268-1779989400-1779994800@riverjournalonline.com
SUMMARY:Friends of Kensico Cemetery Free Walking Tours
DESCRIPTION:Please register for your preferred tour and date via the website.\nHistorical Tours 5:30-7:00 PM:\nMusic\, Mystery\, and Mausoleum Stories: Guided by Patrick Raftery\, Associate Director/Librarian\, Westchester County Historical Society \n❖ The Lake View Tour (1 mile) Tue\, May 5 & Thu\, May 7\, 2026\nHighlights include artists\, architects\, swindlers\, and muckrakers.\n❖ The Ossipee Loop Tour (0.6 miles) Tue\, May 19 & Thu\, May 21\, 2026\nA World’s Fair mystery\, a Broadway angel\, and one good witch. \nTree Tours 5:30-7:00 PM:\nIdentification\, Adaptations\, and Ecology: Guided by Michael Cook\, Superintendent of Grounds\, Kensico Cemetery\, and David Prosser\, Land Steward\, Pound Ridge Land Conservancy \n❖ Tree & Landscape Tour (1 mile) Tue\, May 26 (Mike Cook) & Thu\, May 28\, 2026 (David Prosser)\nDiverse tree collection and landscapes through Kensico’s Level II Arboretum.\n❖ Invasive Species Walk (1 mile) Thu\, June 11\, 2026 with David Prosser\nHow invasive plants and insects affect local flora and fauna.
URL:https://riverjournalonline.com/event/friends-of-kensico-cemetery-free-walking-tours/2026-05-28/
LOCATION:Kensico Cemetery\, 273 Lakeview Avenue\, Valhalla\, 10595\, United States
CATEGORIES:Discussion,Educational,Environment
ATTACH;FMTTYPE=image/jpeg:https://riverjournalonline.com/wp-content/uploads/2026/04/IMG_1363-scaled-e1775592692750.jpg
ORGANIZER;CN="Friends of Kensico Cemetery":MAILTO:friends@kensico.org
END:VEVENT
BEGIN:VEVENT
DTSTART;TZID=America/New_York:20260530T080000
DTEND;TZID=America/New_York:20260530T170000
DTSTAMP:20260423T222810
CREATED:20260203T133848Z
LAST-MODIFIED:20260203T133848Z
UID:10059911-1780128000-1780160400@riverjournalonline.com
SUMMARY:Color Study Workshop
DESCRIPTION:Knowing which colors to choose when mixing paint is so important for any painting project\, whether you are a brand new beginner or a seasoned artist. This fun Color Study workshop will teach you how to control your color! Learn how to avoid a muddy palette\, and get the color you want. \nAll materials provided. \nThis class is suitable for all ages and abilities.
URL:https://riverjournalonline.com/event/color-study-workshop/2026-05-30/1/
LOCATION:KinoSaito Art Center\, 115 7th St\, Verplanck\, 10596
CATEGORIES:Art,Classes,Educational
ATTACH;FMTTYPE=image/jpeg:https://riverjournalonline.com/wp-content/uploads/2026/02/colorstudy-scaled-e1770069398512.jpg
ORGANIZER;CN="KinoSaito Art Center%2C Verplanck%2C NY":MAILTO:info@kinosaito.org
END:VEVENT
BEGIN:VEVENT
DTSTART;TZID=America/New_York:20260530T130000
DTEND;TZID=America/New_York:20260530T150000
DTSTAMP:20260423T222810
CREATED:20260203T133848Z
LAST-MODIFIED:20260203T133848Z
UID:10059912-1780146000-1780153200@riverjournalonline.com
SUMMARY:Color Study Workshop
DESCRIPTION:Knowing which colors to choose when mixing paint is so important for any painting project\, whether you are a brand new beginner or a seasoned artist. This fun Color Study workshop will teach you how to control your color! Learn how to avoid a muddy palette\, and get the color you want. \nAll materials provided. \nThis class is suitable for all ages and abilities.
URL:https://riverjournalonline.com/event/color-study-workshop/2026-05-30/2/
LOCATION:KinoSaito Art Center\, 115 7th St\, Verplanck\, 10596
CATEGORIES:Art,Classes,Educational
ATTACH;FMTTYPE=image/jpeg:https://riverjournalonline.com/wp-content/uploads/2026/02/colorstudy-scaled-e1770069398512.jpg
ORGANIZER;CN="KinoSaito Art Center%2C Verplanck%2C NY":MAILTO:info@kinosaito.org
END:VEVENT
BEGIN:VEVENT
DTSTART;TZID=America/New_York:20260606T130000
DTEND;TZID=America/New_York:20260606T160000
DTSTAMP:20260423T222810
CREATED:20260407T201312Z
LAST-MODIFIED:20260407T201312Z
UID:10062270-1780750800-1780761600@riverjournalonline.com
SUMMARY:Gel Plate Printmaking Workshop
DESCRIPTION:Gel printing plates allow for printmaking without a press. They are reusable and enable quick\, creative artwork. Participants can use stencils\, stamps\, feathers\, yarn\, and other materials to create unique textures and designs. \nAll materials provided. \nThe age minimum for this workshop is 16. \nRSVP Required | Member Discounts Available
URL:https://riverjournalonline.com/event/gel-plate-printmaking-workshop/
LOCATION:KinoSaito Art Center\, 115 7th St\, Verplanck\, 10596
CATEGORIES:Art,Classes,Educational
ATTACH;FMTTYPE=image/jpeg:https://riverjournalonline.com/wp-content/uploads/2026/04/John-Rosis-Green-and-Blue-Jazz-e1775592669324.jpg
ORGANIZER;CN="KinoSaito Art Center%2C Verplanck%2C NY":MAILTO:info@kinosaito.org
END:VEVENT
BEGIN:VEVENT
DTSTART;TZID=America/New_York:20260611T180000
DTEND;TZID=America/New_York:20260611T200000
DTSTAMP:20260423T222810
CREATED:20260420T184146Z
LAST-MODIFIED:20260420T184146Z
UID:10062700-1781200800-1781208000@riverjournalonline.com
SUMMARY:Drawing for Fun Workshop
DESCRIPTION:What is drawing? And how are drawings made? Based around playful prompts\, this beginner workshop focuses on movement\, medium\, method and experimentation to discover different ways of drawing and thinking. Participants will learn and explore a variety of approaches and materials to create their own artworks. \nAll materials provided.\nThis class is suitable for all ages and abilities.\nMember discounts available | RSVP Required
URL:https://riverjournalonline.com/event/drawing-for-fun-workshop/2026-06-11/
LOCATION:KinoSaito Art Center\, 115 7th St\, Verplanck\, 10596
CATEGORIES:Art,Classes,Educational
ATTACH;FMTTYPE=image/jpeg:https://riverjournalonline.com/wp-content/uploads/2026/04/Gummerson_Shadowtrace_2025_Graphite-charcoal-pastel-oilpastelonpaper_approx36x60incopy2-e1776624391633.jpg
ORGANIZER;CN="KinoSaito Art Center%2C Verplanck%2C NY":MAILTO:info@kinosaito.org
END:VEVENT
BEGIN:VEVENT
DTSTART;TZID=America/New_York:20260711T130000
DTEND;TZID=America/New_York:20260711T150000
DTSTAMP:20260423T222810
CREATED:20260420T184146Z
LAST-MODIFIED:20260420T184146Z
UID:10062701-1783774800-1783782000@riverjournalonline.com
SUMMARY:Drawing for Fun Workshop
DESCRIPTION:What is drawing? And how are drawings made? Based around playful prompts\, this beginner workshop focuses on movement\, medium\, method and experimentation to discover different ways of drawing and thinking. Participants will learn and explore a variety of approaches and materials to create their own artworks. \nAll materials provided.\nThis class is suitable for all ages and abilities.\nMember discounts available | RSVP Required
URL:https://riverjournalonline.com/event/drawing-for-fun-workshop/2026-07-11/
LOCATION:KinoSaito Art Center\, 115 7th St\, Verplanck\, 10596
CATEGORIES:Art,Classes,Educational
ATTACH;FMTTYPE=image/jpeg:https://riverjournalonline.com/wp-content/uploads/2026/04/Gummerson_Shadowtrace_2025_Graphite-charcoal-pastel-oilpastelonpaper_approx36x60incopy2-e1776624391633.jpg
ORGANIZER;CN="KinoSaito Art Center%2C Verplanck%2C NY":MAILTO:info@kinosaito.org
END:VEVENT
END:VCALENDAR