BEGIN:VCALENDAR
VERSION:2.0
PRODID:-//River Journal Online - News for Tarrytown, Sleepy Hollow, Irvington, Ossining, Briarcliff Manor, Croton-on-Hudson, Cortlandt and Peekskill - ECPv6.15.20//NONSGML v1.0//EN
CALSCALE:GREGORIAN
METHOD:PUBLISH
X-ORIGINAL-URL:https://riverjournalonline.com
X-WR-CALDESC:Events for River Journal Online - News for Tarrytown, Sleepy Hollow, Irvington, Ossining, Briarcliff Manor, Croton-on-Hudson, Cortlandt and Peekskill
REFRESH-INTERVAL;VALUE=DURATION:PT1H
X-Robots-Tag:noindex
X-PUBLISHED-TTL:PT1H
BEGIN:VTIMEZONE
TZID:America/New_York
BEGIN:DAYLIGHT
TZOFFSETFROM:-0500
TZOFFSETTO:-0400
TZNAME:EDT
DTSTART:20250309T070000
END:DAYLIGHT
BEGIN:STANDARD
TZOFFSETFROM:-0400
TZOFFSETTO:-0500
TZNAME:EST
DTSTART:20251102T060000
END:STANDARD
BEGIN:DAYLIGHT
TZOFFSETFROM:-0500
TZOFFSETTO:-0400
TZNAME:EDT
DTSTART:20260308T070000
END:DAYLIGHT
BEGIN:STANDARD
TZOFFSETFROM:-0400
TZOFFSETTO:-0500
TZNAME:EST
DTSTART:20261101T060000
END:STANDARD
BEGIN:DAYLIGHT
TZOFFSETFROM:-0500
TZOFFSETTO:-0400
TZNAME:EDT
DTSTART:20270314T070000
END:DAYLIGHT
BEGIN:STANDARD
TZOFFSETFROM:-0400
TZOFFSETTO:-0500
TZNAME:EST
DTSTART:20271107T060000
END:STANDARD
END:VTIMEZONE
BEGIN:VEVENT
DTSTART;TZID=America/New_York:20260425T140000
DTEND;TZID=America/New_York:20260425T160000
DTSTAMP:20260421T150959
CREATED:20260402T164151Z
LAST-MODIFIED:20260402T164151Z
UID:10062184-1777125600-1777132800@riverjournalonline.com
SUMMARY:@026 Season Opening
DESCRIPTION:The Lincoln Depot Museum is pleased to announce the start of their 11th season with\nOpening Weekend on April 25 and 26\, 2026. \nThe 2026 season will feature many new artifacts\, a new bi-monthly event and a special presentation on Saturday.\nOpening Day Presentation \nBen Kemp from the Grant Cottage NY State Historic Site will help kick off the season with a special presentation\, “Ulysses S. Grant and Thomas Nast.”\nFirst Saturdays \nThe popular series “First Saturdays” will continue in 2026 with a full line-up of speakers and topics. The series begins on Saturday\, May 2nd with historian and author Daniel Weinfeld and his presentation on the NY 6th Artillery of the Civil War and how many area enlistments were in the heavy artillery regiments. There will also be a highlight with this presentation to one of the new exhibits in the museum! \nNew: Military Antiques Roadshow \nThe West Point Chapter of the Company of Military Historians are teaming up with the museum to offer a special series where noted historians and collectors display their own collections and are on hand to assess items brought in by visitors who may be in need of additional information to better understand the history of their artifact. Where possible\, they may even have an idea of the current value of the item. The roadshow will take place on 3 Saturdays during the 2026 season: June 27\, August 22nd and October 24th. \nAmerica 250 Events \nThe Lincoln Depot Museum will be participating in the America 250 celebration with a series of historical presentations on the 3rd Saturday of each month throughout the season. The series begins on May 16th with George Baker\, Esq\, and his program\, “Meet John Adams; Lawyer\, Founding Father and US President.” The entire series schedule is posted on the museum website. \nTravelling Exhibits \nThroughout the season the museum will host two travelling exhibits: “When the War is Over – Museum of Civil War Medicine” and “Faces of Civil War Nurses” by Rod Coddington and Military Images Magazine.\nThe doors of the museum will open at 1 PM and the presentation will begin at 2 PM. Admission will be $10.00 per person with children 12 and under and museum members free. \nNew Items on Display for 2026 \nThe Lincoln Depot exhibit: “New York and Abraham Lincoln: The Indispensable Relationship\,” will include new artifacts on loan and in the museum’s growing permanent collection\, including a presentation M1850 Officers Sword belonging to Lt. George D. Hyatt of the 6th NY Heavy Artillery “Anthony Wayne’s Guard.” Lt. Hyatt was a resident of both Putnam Valley Peekskill and is interred at the Shrub Oak Methodist Church Cemetery.\nReenactments Throughout the Year \nThe 5th NY Duryee’s Zouaves living history regiment will once again participate in events throughout the season with encampments\, drills and educational events.  \nMore Details on Museum Website • Sign Up for Email Notifications \nThe 2026 season for the Lincoln Depot Museum will run from April 25 to November 22. The museum will be open every Saturday and Sunday\, excluding holidays\, from 1-4 PM. For further information on events or to sign up for our email blasts\, visit the museum website at lincolndepotmuseum.org or call at 914-402-4318. The Lincoln Depot Museum is located at 10 S. Water Street in Peekskill\, NY.
URL:https://riverjournalonline.com/event/026-season-opening/
LOCATION:Lincoln Depot Museum\, 10 South Water Street\, Peekskill\, 10566
CATEGORIES:Educational
ATTACH;FMTTYPE=image/jpeg:https://riverjournalonline.com/wp-content/uploads/2026/04/Program-Flyer-Ulysses-S.-Grant-e1775148139873.jpg
ORGANIZER;CN="Lincoln Depot Museum":MAILTO:lincolndepotfdn@gmail.com
END:VEVENT
BEGIN:VEVENT
DTSTART;TZID=America/New_York:20260425T180000
DTEND;TZID=America/New_York:20260425T203000
DTSTAMP:20260421T150959
CREATED:20260326T194213Z
LAST-MODIFIED:20260326T194213Z
UID:10062165-1777140000-1777149000@riverjournalonline.com
SUMMARY:America\, 250 Years in Word & Song
DESCRIPTION:As part of Pelham 250\, The Manor Club Theatre at 1023 Esplanade\, Pelham\, NY\, presents for one-night only\, America\, 250 Years in Word & Song on Saturday\, April 25\, 2026\,  Doors open at 6:00pm for a wine and cheese reception; show starts at 7:00pm\, followed by coffee and dessert\, all included with ticket purchase. We invite you to participate in the silent auction and raffles to help support The Manor Club.\nCome celebrate America’s 250th Anniversary with a musical presentation with selections from Broadway musicals and the American Songbook with Mauro Contrastano\, Elizabeth DiMeo\, Joseph Diaz\, Jeannine Goche\, Leslie Ann Lopez\, Anthony Malchar\, Leslie Messina\, Christopher Nigro\, Karen Pursel\, Michael Quigley\, Eric Suben and Ellen Weiss. \nAdvanced Sales Recommended – General Admission Donation is $20.26\nTickets:  https://our.show/america250 \nFor more information\, call 914.738.1528
URL:https://riverjournalonline.com/event/america-250-years-in-word-song/
LOCATION:The Manor Club of Pelham\, 1023 Esplanade\, Pelham\, NY\, 10803\, United States
CATEGORIES:Educational,Music,Theater
ATTACH;FMTTYPE=image/jpeg:https://riverjournalonline.com/wp-content/uploads/2026/03/America-250-Flyer-Final-March-25-e1774512973849.jpg
END:VEVENT
END:VCALENDAR