BEGIN:VCALENDAR
VERSION:2.0
PRODID:-//River Journal Online - News for Tarrytown, Sleepy Hollow, Irvington, Ossining, Briarcliff Manor, Croton-on-Hudson, Cortlandt and Peekskill - ECPv6.15.20//NONSGML v1.0//EN
CALSCALE:GREGORIAN
METHOD:PUBLISH
X-WR-CALNAME:River Journal Online - News for Tarrytown, Sleepy Hollow, Irvington, Ossining, Briarcliff Manor, Croton-on-Hudson, Cortlandt and Peekskill
X-ORIGINAL-URL:https://riverjournalonline.com
X-WR-CALDESC:Events for River Journal Online - News for Tarrytown, Sleepy Hollow, Irvington, Ossining, Briarcliff Manor, Croton-on-Hudson, Cortlandt and Peekskill
REFRESH-INTERVAL;VALUE=DURATION:PT1H
X-Robots-Tag:noindex
X-PUBLISHED-TTL:PT1H
BEGIN:VTIMEZONE
TZID:America/New_York
BEGIN:DAYLIGHT
TZOFFSETFROM:-0500
TZOFFSETTO:-0400
TZNAME:EDT
DTSTART:20250309T070000
END:DAYLIGHT
BEGIN:STANDARD
TZOFFSETFROM:-0400
TZOFFSETTO:-0500
TZNAME:EST
DTSTART:20251102T060000
END:STANDARD
BEGIN:DAYLIGHT
TZOFFSETFROM:-0500
TZOFFSETTO:-0400
TZNAME:EDT
DTSTART:20260308T070000
END:DAYLIGHT
BEGIN:STANDARD
TZOFFSETFROM:-0400
TZOFFSETTO:-0500
TZNAME:EST
DTSTART:20261101T060000
END:STANDARD
BEGIN:DAYLIGHT
TZOFFSETFROM:-0500
TZOFFSETTO:-0400
TZNAME:EDT
DTSTART:20270314T070000
END:DAYLIGHT
BEGIN:STANDARD
TZOFFSETFROM:-0400
TZOFFSETTO:-0500
TZNAME:EST
DTSTART:20271107T060000
END:STANDARD
BEGIN:DAYLIGHT
TZOFFSETFROM:-0500
TZOFFSETTO:-0400
TZNAME:EDT
DTSTART:20280312T070000
END:DAYLIGHT
BEGIN:STANDARD
TZOFFSETFROM:-0400
TZOFFSETTO:-0500
TZNAME:EST
DTSTART:20281105T060000
END:STANDARD
END:VTIMEZONE
BEGIN:VEVENT
DTSTART;TZID=America/New_York:20260816T140000
DTEND;TZID=America/New_York:20260816T150000
DTSTAMP:20260421T013257
CREATED:20260420T184149Z
LAST-MODIFIED:20260420T184149Z
UID:10062705-1786888800-1786892400@riverjournalonline.com
SUMMARY:A Tapestry of Sound: Church of the Magdalene's June 7th Concert
DESCRIPTION:Save the date: Sunday\, June 7\, 2026. This year’s program: A Tapestry of Sound\, brings together a range of musical styles and voices in a cohesive yet dynamic way. You’ll experience an engaging\, expressive\, carefully curated program that reflects an artistic excellence and a strong sense of community.
URL:https://riverjournalonline.com/event/a-tapestry-of-sound-church-of-the-magdalenes-june-7th-concert/2026-08-16/
LOCATION:Church of the Magdalene\, 525 Bedford Road\, Tarrytown\, NY\, 10591\, United States
CATEGORIES:Culture
ATTACH;FMTTYPE=image/png:https://riverjournalonline.com/wp-content/uploads/2026/04/Sculpture-Square-scaled-e1776710428908.png
ORGANIZER;CN="Church of the Magdalene":MAILTO:TheMagdalene@ArchNY.org
END:VEVENT
BEGIN:VEVENT
DTSTART;TZID=America/New_York:20260920T140000
DTEND;TZID=America/New_York:20260920T150000
DTSTAMP:20260421T013257
CREATED:20260420T184149Z
LAST-MODIFIED:20260420T184149Z
UID:10062706-1789912800-1789916400@riverjournalonline.com
SUMMARY:A Tapestry of Sound: Church of the Magdalene's June 7th Concert
DESCRIPTION:Save the date: Sunday\, June 7\, 2026. This year’s program: A Tapestry of Sound\, brings together a range of musical styles and voices in a cohesive yet dynamic way. You’ll experience an engaging\, expressive\, carefully curated program that reflects an artistic excellence and a strong sense of community.
URL:https://riverjournalonline.com/event/a-tapestry-of-sound-church-of-the-magdalenes-june-7th-concert/2026-09-20/
LOCATION:Church of the Magdalene\, 525 Bedford Road\, Tarrytown\, NY\, 10591\, United States
CATEGORIES:Culture
ATTACH;FMTTYPE=image/png:https://riverjournalonline.com/wp-content/uploads/2026/04/Sculpture-Square-scaled-e1776710428908.png
ORGANIZER;CN="Church of the Magdalene":MAILTO:TheMagdalene@ArchNY.org
END:VEVENT
BEGIN:VEVENT
DTSTART;TZID=America/New_York:20261025T140000
DTEND;TZID=America/New_York:20261025T150000
DTSTAMP:20260421T013257
CREATED:20260420T184149Z
LAST-MODIFIED:20260420T184149Z
UID:10062707-1792936800-1792940400@riverjournalonline.com
SUMMARY:A Tapestry of Sound: Church of the Magdalene's June 7th Concert
DESCRIPTION:Save the date: Sunday\, June 7\, 2026. This year’s program: A Tapestry of Sound\, brings together a range of musical styles and voices in a cohesive yet dynamic way. You’ll experience an engaging\, expressive\, carefully curated program that reflects an artistic excellence and a strong sense of community.
URL:https://riverjournalonline.com/event/a-tapestry-of-sound-church-of-the-magdalenes-june-7th-concert/2026-10-25/
LOCATION:Church of the Magdalene\, 525 Bedford Road\, Tarrytown\, NY\, 10591\, United States
CATEGORIES:Culture
ATTACH;FMTTYPE=image/png:https://riverjournalonline.com/wp-content/uploads/2026/04/Sculpture-Square-scaled-e1776710428908.png
ORGANIZER;CN="Church of the Magdalene":MAILTO:TheMagdalene@ArchNY.org
END:VEVENT
BEGIN:VEVENT
DTSTART;TZID=America/New_York:20261129T140000
DTEND;TZID=America/New_York:20261129T150000
DTSTAMP:20260421T013257
CREATED:20260420T184149Z
LAST-MODIFIED:20260420T184149Z
UID:10062708-1795960800-1795964400@riverjournalonline.com
SUMMARY:A Tapestry of Sound: Church of the Magdalene's June 7th Concert
DESCRIPTION:Save the date: Sunday\, June 7\, 2026. This year’s program: A Tapestry of Sound\, brings together a range of musical styles and voices in a cohesive yet dynamic way. You’ll experience an engaging\, expressive\, carefully curated program that reflects an artistic excellence and a strong sense of community.
URL:https://riverjournalonline.com/event/a-tapestry-of-sound-church-of-the-magdalenes-june-7th-concert/2026-11-29/
LOCATION:Church of the Magdalene\, 525 Bedford Road\, Tarrytown\, NY\, 10591\, United States
CATEGORIES:Culture
ATTACH;FMTTYPE=image/png:https://riverjournalonline.com/wp-content/uploads/2026/04/Sculpture-Square-scaled-e1776710428908.png
ORGANIZER;CN="Church of the Magdalene":MAILTO:TheMagdalene@ArchNY.org
END:VEVENT
BEGIN:VEVENT
DTSTART;TZID=America/New_York:20270103T140000
DTEND;TZID=America/New_York:20270103T150000
DTSTAMP:20260421T013257
CREATED:20260420T184149Z
LAST-MODIFIED:20260420T184149Z
UID:10062709-1798984800-1798988400@riverjournalonline.com
SUMMARY:A Tapestry of Sound: Church of the Magdalene's June 7th Concert
DESCRIPTION:Save the date: Sunday\, June 7\, 2026. This year’s program: A Tapestry of Sound\, brings together a range of musical styles and voices in a cohesive yet dynamic way. You’ll experience an engaging\, expressive\, carefully curated program that reflects an artistic excellence and a strong sense of community.
URL:https://riverjournalonline.com/event/a-tapestry-of-sound-church-of-the-magdalenes-june-7th-concert/2027-01-03/
LOCATION:Church of the Magdalene\, 525 Bedford Road\, Tarrytown\, NY\, 10591\, United States
CATEGORIES:Culture
ATTACH;FMTTYPE=image/png:https://riverjournalonline.com/wp-content/uploads/2026/04/Sculpture-Square-scaled-e1776710428908.png
ORGANIZER;CN="Church of the Magdalene":MAILTO:TheMagdalene@ArchNY.org
END:VEVENT
BEGIN:VEVENT
DTSTART;TZID=America/New_York:20270207T140000
DTEND;TZID=America/New_York:20270207T150000
DTSTAMP:20260421T013257
CREATED:20260420T184149Z
LAST-MODIFIED:20260420T184149Z
UID:10062710-1802008800-1802012400@riverjournalonline.com
SUMMARY:A Tapestry of Sound: Church of the Magdalene's June 7th Concert
DESCRIPTION:Save the date: Sunday\, June 7\, 2026. This year’s program: A Tapestry of Sound\, brings together a range of musical styles and voices in a cohesive yet dynamic way. You’ll experience an engaging\, expressive\, carefully curated program that reflects an artistic excellence and a strong sense of community.
URL:https://riverjournalonline.com/event/a-tapestry-of-sound-church-of-the-magdalenes-june-7th-concert/2027-02-07/
LOCATION:Church of the Magdalene\, 525 Bedford Road\, Tarrytown\, NY\, 10591\, United States
CATEGORIES:Culture
ATTACH;FMTTYPE=image/png:https://riverjournalonline.com/wp-content/uploads/2026/04/Sculpture-Square-scaled-e1776710428908.png
ORGANIZER;CN="Church of the Magdalene":MAILTO:TheMagdalene@ArchNY.org
END:VEVENT
BEGIN:VEVENT
DTSTART;TZID=America/New_York:20270314T140000
DTEND;TZID=America/New_York:20270314T150000
DTSTAMP:20260421T013257
CREATED:20260420T184149Z
LAST-MODIFIED:20260420T184149Z
UID:10062711-1805032800-1805036400@riverjournalonline.com
SUMMARY:A Tapestry of Sound: Church of the Magdalene's June 7th Concert
DESCRIPTION:Save the date: Sunday\, June 7\, 2026. This year’s program: A Tapestry of Sound\, brings together a range of musical styles and voices in a cohesive yet dynamic way. You’ll experience an engaging\, expressive\, carefully curated program that reflects an artistic excellence and a strong sense of community.
URL:https://riverjournalonline.com/event/a-tapestry-of-sound-church-of-the-magdalenes-june-7th-concert/2027-03-14/
LOCATION:Church of the Magdalene\, 525 Bedford Road\, Tarrytown\, NY\, 10591\, United States
CATEGORIES:Culture
ATTACH;FMTTYPE=image/png:https://riverjournalonline.com/wp-content/uploads/2026/04/Sculpture-Square-scaled-e1776710428908.png
ORGANIZER;CN="Church of the Magdalene":MAILTO:TheMagdalene@ArchNY.org
END:VEVENT
BEGIN:VEVENT
DTSTART;TZID=America/New_York:20270418T140000
DTEND;TZID=America/New_York:20270418T150000
DTSTAMP:20260421T013257
CREATED:20260420T184149Z
LAST-MODIFIED:20260420T184149Z
UID:10062712-1808056800-1808060400@riverjournalonline.com
SUMMARY:A Tapestry of Sound: Church of the Magdalene's June 7th Concert
DESCRIPTION:Save the date: Sunday\, June 7\, 2026. This year’s program: A Tapestry of Sound\, brings together a range of musical styles and voices in a cohesive yet dynamic way. You’ll experience an engaging\, expressive\, carefully curated program that reflects an artistic excellence and a strong sense of community.
URL:https://riverjournalonline.com/event/a-tapestry-of-sound-church-of-the-magdalenes-june-7th-concert/2027-04-18/
LOCATION:Church of the Magdalene\, 525 Bedford Road\, Tarrytown\, NY\, 10591\, United States
CATEGORIES:Culture
ATTACH;FMTTYPE=image/png:https://riverjournalonline.com/wp-content/uploads/2026/04/Sculpture-Square-scaled-e1776710428908.png
ORGANIZER;CN="Church of the Magdalene":MAILTO:TheMagdalene@ArchNY.org
END:VEVENT
BEGIN:VEVENT
DTSTART;TZID=America/New_York:20270523T140000
DTEND;TZID=America/New_York:20270523T150000
DTSTAMP:20260421T013257
CREATED:20260420T184149Z
LAST-MODIFIED:20260420T184149Z
UID:10062713-1811080800-1811084400@riverjournalonline.com
SUMMARY:A Tapestry of Sound: Church of the Magdalene's June 7th Concert
DESCRIPTION:Save the date: Sunday\, June 7\, 2026. This year’s program: A Tapestry of Sound\, brings together a range of musical styles and voices in a cohesive yet dynamic way. You’ll experience an engaging\, expressive\, carefully curated program that reflects an artistic excellence and a strong sense of community.
URL:https://riverjournalonline.com/event/a-tapestry-of-sound-church-of-the-magdalenes-june-7th-concert/2027-05-23/
LOCATION:Church of the Magdalene\, 525 Bedford Road\, Tarrytown\, NY\, 10591\, United States
CATEGORIES:Culture
ATTACH;FMTTYPE=image/png:https://riverjournalonline.com/wp-content/uploads/2026/04/Sculpture-Square-scaled-e1776710428908.png
ORGANIZER;CN="Church of the Magdalene":MAILTO:TheMagdalene@ArchNY.org
END:VEVENT
END:VCALENDAR