BEGIN:VCALENDAR
VERSION:2.0
PRODID:-//River Journal Online - News for Tarrytown, Sleepy Hollow, Irvington, Ossining, Briarcliff Manor, Croton-on-Hudson, Cortlandt and Peekskill - ECPv6.15.20//NONSGML v1.0//EN
CALSCALE:GREGORIAN
METHOD:PUBLISH
X-ORIGINAL-URL:https://riverjournalonline.com
X-WR-CALDESC:Events for River Journal Online - News for Tarrytown, Sleepy Hollow, Irvington, Ossining, Briarcliff Manor, Croton-on-Hudson, Cortlandt and Peekskill
REFRESH-INTERVAL;VALUE=DURATION:PT1H
X-Robots-Tag:noindex
X-PUBLISHED-TTL:PT1H
BEGIN:VTIMEZONE
TZID:America/New_York
BEGIN:DAYLIGHT
TZOFFSETFROM:-0500
TZOFFSETTO:-0400
TZNAME:EDT
DTSTART:20250309T070000
END:DAYLIGHT
BEGIN:STANDARD
TZOFFSETFROM:-0400
TZOFFSETTO:-0500
TZNAME:EST
DTSTART:20251102T060000
END:STANDARD
BEGIN:DAYLIGHT
TZOFFSETFROM:-0500
TZOFFSETTO:-0400
TZNAME:EDT
DTSTART:20260308T070000
END:DAYLIGHT
BEGIN:STANDARD
TZOFFSETFROM:-0400
TZOFFSETTO:-0500
TZNAME:EST
DTSTART:20261101T060000
END:STANDARD
BEGIN:DAYLIGHT
TZOFFSETFROM:-0500
TZOFFSETTO:-0400
TZNAME:EDT
DTSTART:20270314T070000
END:DAYLIGHT
BEGIN:STANDARD
TZOFFSETFROM:-0400
TZOFFSETTO:-0500
TZNAME:EST
DTSTART:20271107T060000
END:STANDARD
END:VTIMEZONE
BEGIN:VEVENT
DTSTART;TZID=America/New_York:20260418T100000
DTEND;TZID=America/New_York:20260418T160000
DTSTAMP:20260420T022626
CREATED:20260214T215547Z
LAST-MODIFIED:20260214T215547Z
UID:10060318-1776506400-1776528000@riverjournalonline.com
SUMMARY:Spring Etsy Maker's Market
DESCRIPTION:Spring Maker’s Market – Save the Date! ✨🌸\nJoin us on Saturday\, April 18th for a delightful Spring Maker’s Market featuring unique\, handmade gifts created by incredibly talented local artists!\nDiscover one-of-a-kind treasures you won’t find in big box stores — from handcrafted jewelry and artisan home décor to beautiful artwork\, specialty gifts\, and more. It’s the perfect opportunity to shop small\, support local\, and find something truly special for yourself or someone you love.\nBring a friend\, enjoy the spring vibes\, and celebrate creativity in our community. 🌷🛍️\n🗓 Saturday\, April 18th\nHandmade • Local • One-of-a-Kind\nMark your calendar — we can’t wait to see you there! 💕
URL:https://riverjournalonline.com/event/spring-etsy-makers-market/
LOCATION:Ossining Public Library\, 53 Croton Avenue\, Ossining\, NY\, 10562\, United States
CATEGORIES:Art,Crafts and Gift Market
ATTACH;FMTTYPE=image/png:https://riverjournalonline.com/wp-content/uploads/2026/02/OPL-Spring-Etsy-Fair-Flyer-e1771106019210.png
ORGANIZER;CN="Northeast Etsy Artists Collective":MAILTO:northeastetsyartistsassoc@gmail.com
END:VEVENT
END:VCALENDAR