BEGIN:VCALENDAR
VERSION:2.0
PRODID:-//River Journal Online - News for Tarrytown, Sleepy Hollow, Irvington, Ossining, Briarcliff Manor, Croton-on-Hudson, Cortlandt and Peekskill - ECPv6.15.20//NONSGML v1.0//EN
CALSCALE:GREGORIAN
METHOD:PUBLISH
X-ORIGINAL-URL:https://riverjournalonline.com
X-WR-CALDESC:Events for River Journal Online - News for Tarrytown, Sleepy Hollow, Irvington, Ossining, Briarcliff Manor, Croton-on-Hudson, Cortlandt and Peekskill
REFRESH-INTERVAL;VALUE=DURATION:PT1H
X-Robots-Tag:noindex
X-PUBLISHED-TTL:PT1H
BEGIN:VTIMEZONE
TZID:America/New_York
BEGIN:DAYLIGHT
TZOFFSETFROM:-0500
TZOFFSETTO:-0400
TZNAME:EDT
DTSTART:20250309T070000
END:DAYLIGHT
BEGIN:STANDARD
TZOFFSETFROM:-0400
TZOFFSETTO:-0500
TZNAME:EST
DTSTART:20251102T060000
END:STANDARD
BEGIN:DAYLIGHT
TZOFFSETFROM:-0500
TZOFFSETTO:-0400
TZNAME:EDT
DTSTART:20260308T070000
END:DAYLIGHT
BEGIN:STANDARD
TZOFFSETFROM:-0400
TZOFFSETTO:-0500
TZNAME:EST
DTSTART:20261101T060000
END:STANDARD
BEGIN:DAYLIGHT
TZOFFSETFROM:-0500
TZOFFSETTO:-0400
TZNAME:EDT
DTSTART:20270314T070000
END:DAYLIGHT
BEGIN:STANDARD
TZOFFSETFROM:-0400
TZOFFSETTO:-0500
TZNAME:EST
DTSTART:20271107T060000
END:STANDARD
END:VTIMEZONE
BEGIN:VEVENT
DTSTART;TZID=America/New_York:20260602T190000
DTEND;TZID=America/New_York:20260602T210000
DTSTAMP:20260421T181611
CREATED:20260210T153337Z
LAST-MODIFIED:20260210T153337Z
UID:10059988-1780426800-1780434000@riverjournalonline.com
SUMMARY:The Human Story of Nature: Myths\, Models of the Universe\, and the Modern Mind
DESCRIPTION:Sarah Lawrence College Extension Course: \nA fascinating exploration of the interaction between people and nature throughout history.
URL:https://riverjournalonline.com/event/the-human-story-of-nature-myths-models-of-the-universe-and-the-modern-mind/2026-06-02/
LOCATION:Sarah Lawrence College\, 1 Mead Way\, Bronxville\, NY\, 10708\, United States
CATEGORIES:Classes
ATTACH;FMTTYPE=image/png:https://riverjournalonline.com/wp-content/uploads/2026/02/Screen-Shot-2026-02-06-at-4.39.18-PM-e1770737445321.png
ORGANIZER;CN="Sarah Lawrence College":MAILTO:collegeevents@sarahlawrence.edu.
END:VEVENT
END:VCALENDAR